BEGIN:VCALENDAR
VERSION:2.0
PRODID:-//NVHC - ECPv6.8.1//NONSGML v1.0//EN
CALSCALE:GREGORIAN
METHOD:PUBLISH
X-WR-CALNAME:NVHC
X-ORIGINAL-URL:https://www.nvhcreston.org
X-WR-CALDESC:Events for NVHC
REFRESH-INTERVAL;VALUE=DURATION:PT1H
X-Robots-Tag:noindex
X-PUBLISHED-TTL:PT1H
BEGIN:VTIMEZONE
TZID:Africa/Abidjan
BEGIN:STANDARD
TZOFFSETFROM:+0000
TZOFFSETTO:+0000
TZNAME:GMT
DTSTART:20230101T000000
END:STANDARD
END:VTIMEZONE
BEGIN:VEVENT
DTSTART;TZID=Africa/Abidjan:20231115T183000
DTEND;TZID=Africa/Abidjan:20231115T200000
DTSTAMP:20260420T083310
CREATED:20220823T225030Z
LAST-MODIFIED:20220824T003210Z
UID:663140-1700073000-1700078400@www.nvhcreston.org
SUMMARY:Adult B'nai Mitzvah Study Session- In Person
DESCRIPTION:
URL:https://www.nvhcreston.org/calendars/adult-bnai-mitzvah-study-session-in-person-3/
CATEGORIES:Lifelong Learning
END:VEVENT
END:VCALENDAR