BEGIN:VCALENDAR
VERSION:2.0
PRODID:-//NVHC - ECPv6.8.1//NONSGML v1.0//EN
CALSCALE:GREGORIAN
METHOD:PUBLISH
X-WR-CALNAME:NVHC
X-ORIGINAL-URL:https://www.nvhcreston.org
X-WR-CALDESC:Events for NVHC
REFRESH-INTERVAL;VALUE=DURATION:PT1H
X-Robots-Tag:noindex
X-PUBLISHED-TTL:PT1H
BEGIN:VTIMEZONE
TZID:America/New_York
BEGIN:DAYLIGHT
TZOFFSETFROM:-0500
TZOFFSETTO:-0400
TZNAME:EDT
DTSTART:20260308T070000
END:DAYLIGHT
BEGIN:STANDARD
TZOFFSETFROM:-0400
TZOFFSETTO:-0500
TZNAME:EST
DTSTART:20261101T060000
END:STANDARD
END:VTIMEZONE
BEGIN:VEVENT
DTSTART;TZID=America/New_York:20260423T120000
DTEND;TZID=America/New_York:20260423T130000
DTSTAMP:20260423T104509
CREATED:20250820T041758Z
LAST-MODIFIED:20260102T153637Z
UID:670339-1776945600-1776949200@www.nvhcreston.org
SUMMARY:Judaism Is About Love
DESCRIPTION:Taught by: Rabbi Holzman\nThursdays\, September 4*\, October 16\, November 20\, December 11\, January 29\, February 19\, April 23\, May 7\, May 21\, June 4\n12:00-1:00pm\, online only \n\n\n\n\n\nThis lunch ‘n learn is named after Shai Held’s recent\, masterful volume of Jewish thinking\, Judaism Is About Love: Recovering the Heart of Jewish Life. Together we will seek to understand how Held’s ideas manifest in our lives and contemporary Jewish practice. Independent purchase of the book is required\, and e-book copies should be paginated like the print edition. (No handouts will be provided.) \n*The September 4 session will include a review of the book so far. \nClick here to register.
URL:https://www.nvhcreston.org/calendars/judaism-is-about-love-2/2026-04-23/
CATEGORIES:Lifelong Learning
END:VEVENT
END:VCALENDAR