BEGIN:VCALENDAR
VERSION:2.0
PRODID:-//NVHC - ECPv6.8.1//NONSGML v1.0//EN
CALSCALE:GREGORIAN
METHOD:PUBLISH
X-WR-CALNAME:NVHC
X-ORIGINAL-URL:https://www.nvhcreston.org
X-WR-CALDESC:Events for NVHC
REFRESH-INTERVAL;VALUE=DURATION:PT1H
X-Robots-Tag:noindex
X-PUBLISHED-TTL:PT1H
BEGIN:VTIMEZONE
TZID:America/New_York
BEGIN:DAYLIGHT
TZOFFSETFROM:-0500
TZOFFSETTO:-0400
TZNAME:EDT
DTSTART:20250309T070000
END:DAYLIGHT
BEGIN:STANDARD
TZOFFSETFROM:-0400
TZOFFSETTO:-0500
TZNAME:EST
DTSTART:20251102T060000
END:STANDARD
TZID:Africa/Abidjan
BEGIN:STANDARD
TZOFFSETFROM:+0000
TZOFFSETTO:+0000
TZNAME:GMT
DTSTART:20250101T000000
END:STANDARD
END:VTIMEZONE
BEGIN:VEVENT
DTSTART;TZID=America/New_York:20250511T101500
DTEND;TZID=America/New_York:20250511T113000
DTSTAMP:20260420T112457
CREATED:20241009T012441Z
LAST-MODIFIED:20250108T005440Z
UID:667396-1746958500-1746963000@www.nvhcreston.org
SUMMARY:Brotherhood Meeting
DESCRIPTION:An open meeting for current and future members of NVHC’s Brotherhood! Whether your interested in planning events\, helping us support the NVHC community\, or just curious about Brotherhood\, this meeting is for you! \nFor more information\, contact Bob Fenster\, Brotherhood President\, at brotherhoodpresident@nvhcreston.org.
URL:https://www.nvhcreston.org/calendars/brotherhood-meeting/2025-05-11/
CATEGORIES:Brotherhood
END:VEVENT
BEGIN:VEVENT
DTSTART;TZID=America/New_York:20250511T190000
DTEND;TZID=America/New_York:20250511T210000
DTSTAMP:20260420T112457
CREATED:20250122T230702Z
LAST-MODIFIED:20250122T230702Z
UID:667893-1746990000-1746997200@www.nvhcreston.org
SUMMARY:Kol Shirah (Adult Choir) Rehearsal
DESCRIPTION:Kol Shirah is our adult choir. They help lead services during High Holy Days\, Shabbat\, and at other congregational events! Click here to learn more.
URL:https://www.nvhcreston.org/calendars/kol-shirah-adult-choir-rehearsal-2/2025-05-11/
CATEGORIES:Kol Shirah
END:VEVENT
BEGIN:VEVENT
DTSTART;TZID=America/New_York:20250512T190000
DTEND;TZID=America/New_York:20250512T200000
DTSTAMP:20260420T112457
CREATED:20250206T213206Z
LAST-MODIFIED:20250206T213206Z
UID:668180-1747076400-1747080000@www.nvhcreston.org
SUMMARY:Beginning Hebrew II
DESCRIPTION:Taught by: Neta Litvin\nTextbook: Hebrew – A Language Course\, Level 1\nMondays\, 12 weeks beginning February 17\, 7:00-8:00pm\nOnline only\n$136/members\, $160/non-members \nYou’re ready to take the next step in your Hebrew learning journey! This course builds on the basics\, helping you expand your vocabulary\, strengthen your grammar\, and gain more confidence in reading\, speaking\, and writing. We will reinforce foundational skills while introducing essential verbs\, sentence structures\, and everyday conversations. With an Israeli flavor\, our engaging approach makes learning Hebrew both enjoyable and rewarding! \nClick here to register!
URL:https://www.nvhcreston.org/calendars/beginning-hebrew-ii-3/2025-05-12/
CATEGORIES:Lifelong Learning
END:VEVENT
BEGIN:VEVENT
DTSTART;TZID=America/New_York:20250513T174500
DTEND;TZID=America/New_York:20250513T200000
DTSTAMP:20260420T112457
CREATED:20240610T211057Z
LAST-MODIFIED:20241217T180713Z
UID:666647-1747158300-1747166400@www.nvhcreston.org
SUMMARY:Tamid (8th-12th Grade)
DESCRIPTION:Tamid is our religious school/youth group program for students in 8th-12th grade. Click here to learn more!
URL:https://www.nvhcreston.org/calendars/tamid-8th-12th-grade/2025-05-13/
CATEGORIES:Tamid
END:VEVENT
BEGIN:VEVENT
DTSTART;TZID=America/New_York:20250513T183000
DTEND;TZID=America/New_York:20250513T193000
DTSTAMP:20260420T112457
CREATED:20250206T214102Z
LAST-MODIFIED:20250411T182849Z
UID:668193-1747161000-1747164600@www.nvhcreston.org
SUMMARY:Intermediate Hebrew II
DESCRIPTION:Taught by: Neta Litvin\nTextbook: Hebrew – A Language Course\, Level 2\nTuesdays\, 12 weeks beginning February 18\, 6:30-7:30pm\nOnline only\n$136/members\, $160/non-members \nPrerequisites: Beginning Hebrew II/Intermediate Hebrew I. Knowledge of the Aleph-Bet and beginning proficiency with reading Hebrew. \nClass participants will have the opportunity to hone their Hebrew reading skills using a modern Hebrew textbook\, learning Hebrew from simple stories.\nFeatures include: Varied reading selections that range from contemporary stories to Hasidic tales\, midrashim\, and biblical narratives. Lessons that train students to read confidently both with and without vowels. Grammatical concepts explored through comparison to English structure. \nThis class is for anyone who would like further practice in their Hebrew reading skills and who would like to expand their Hebrew vocabulary and understanding of Hebrew grammar. \nClick here to register!
URL:https://www.nvhcreston.org/calendars/intermediate-hebrew-ii-3/2025-05-13/
CATEGORIES:Lifelong Learning
END:VEVENT
BEGIN:VEVENT
DTSTART;TZID=America/New_York:20250514T120000
DTEND;TZID=America/New_York:20250514T131500
DTSTAMP:20260420T112457
CREATED:20240924T203132Z
LAST-MODIFIED:20241107T223741Z
UID:667030-1747224000-1747228500@www.nvhcreston.org
SUMMARY:Strengthening the Self (Mussar) Through the Psalms
DESCRIPTION:Taught by Cantor Caro\nWednesdays\, 12:00-1:15pm\, in person and on Zoom\nNovember 13\, December 18\, January 15\, February 12\, March 12\, April 23\, May 14 \nMussar is a virtues-based approach to Jewish ethics and character development\, giving us how to live a most meaningful and ethical life. \nThe Book of Psalms is a collection of 150 prayers\, hymns\, and meditations from Israel that are addressed to God\, whose content expresses the breadth of the human experience of emotions. \nIn this monthly session\, we will examine selections from the Book of Psalms that raise up various character traits (middot)\, offering us opportunities for personal growth and transformation through this Jewish lens. \n Click here to register.
URL:https://www.nvhcreston.org/calendars/mussar-in-the-book-of-psalms/2025-05-14/
CATEGORIES:Lifelong Learning
END:VEVENT
BEGIN:VEVENT
DTSTART;TZID=America/New_York:20250514T184500
DTEND;TZID=America/New_York:20250514T194500
DTSTAMP:20260420T112457
CREATED:20250206T214923Z
LAST-MODIFIED:20250429T153019Z
UID:668206-1747248300-1747251900@www.nvhcreston.org
SUMMARY:Advanced Hebrew II
DESCRIPTION:Taught by Neta Litvin\nTextbook: Brandeis Modern Hebrew\nWednesdays\, 12 weeks beginning February 19\, 6:45-7:45pm\n**Class on April 30 has been moved to May 1\nOnline only\n$136/members\, $160/non-members \nPrerequisites: Intermediate Hebrew II\, Prayer Hebrew II\, or equivalent. Comfort with reading Hebrew fluently and intermediate knowledge of Hebrew grammar. \nIn this course you will continue to expand your vocabulary\, advanced grammar\, adjectives\, and verb tenses. The textbook reflects some of the main principles that have shaped the Brandeis Hebrew curriculum during the past decade. These include: an emphasis on the learner’s ability to use the target language in all four skills areas: speaking\, listening\, reading\, and writing; an effort to contextualize each unit within a specific subject or theme; exposing the student to authentic and semi-authentic materials (texts written by native speakers); and exploring different elements from Israeli and Jewish culture in the language drills\, reading passages\, and in selections of sources from the Hebrew literary canon. The text in this edition comprises 11 units\, supplementary Hebrew proficiency guidelines\, and a vocabulary list. Audio-visual components for all reading passages are available online for download. \nClick here to register!
URL:https://www.nvhcreston.org/calendars/advanced-hebrew-ii/2025-05-14/
CATEGORIES:Lifelong Learning
END:VEVENT
BEGIN:VEVENT
DTSTART;TZID=America/New_York:20250514T190000
DTEND;TZID=America/New_York:20250514T210000
DTSTAMP:20260420T112457
CREATED:20190919T204332Z
LAST-MODIFIED:20260107T200353Z
UID:664484-1747249200-1747256400@www.nvhcreston.org
SUMMARY:Executive Committee Meeting
DESCRIPTION:
URL:https://www.nvhcreston.org/calendars/executive-committee-meeting-3/2025-05-14/
CATEGORIES:Board and Committees
END:VEVENT
BEGIN:VEVENT
DTSTART;TZID=America/New_York:20250515T120000
DTEND;TZID=America/New_York:20250515T130000
DTSTAMP:20260420T112457
CREATED:20240924T211742Z
LAST-MODIFIED:20240924T211742Z
UID:668827-1747310400-1747314000@www.nvhcreston.org
SUMMARY:Judaism Is About Love
DESCRIPTION:Taught Rabbi Holzman\nThursdays\, February 6\, 20; March 6\, 27; April 10\, 17; May 1\, 15; June 5\n*We’ll pick up again in late August!\n12:00-1:00pm\, On Zoom Only \nThis lunch ‘n learn is named after Shai Held’s recent\, masterful volume of Jewish thinking\, Judaism Is About Love: Recovering the Heart of Jewish Life. Together we will seek to understand how Held’s ideas manifest in our lives and contemporary Jewish practice. Independent purchase of the book is required\, and e-book copies should be paginated like the print edition. (No handouts will be provided.) \nClick here to purchase the book and Click here to register.
URL:https://www.nvhcreston.org/calendars/judaism-is-about-love/2025-05-15/
CATEGORIES:Lifelong Learning
END:VEVENT
BEGIN:VEVENT
DTSTART;TZID=America/New_York:20250515T190000
DTEND;TZID=America/New_York:20250515T201500
DTSTAMP:20260420T112457
CREATED:20240925T015315Z
LAST-MODIFIED:20240925T015315Z
UID:668720-1747335600-1747340100@www.nvhcreston.org
SUMMARY:Introduction to Reform Responsa
DESCRIPTION:Taught by Rabbi Barrett\nThursdays\, November 14*\, December 19\, January 9\, February 6\, April 24\, May 15\n7:00-8:15pm\, in person and on Zoom\n*Class on November 14 will take place from 6:00-7:00pm \nResponsa is a genre of Jewish literature focused on legal decisions and rulings made by rabbinic authorities. These texts typically present questions and answers regarding various aspects of Jewish practice and cover nearly every facet of Jewish life. Each monthly session will explore a specific theme in Jewish tradition\, accompanied by a relevant responsum on the topic. This class merges Jewish learning with practical application\, encouraging participants to reflect on their own relationship to Jewish observance. Join us as we dive into a new legal topic each session\, enhancing both your textual skills and your understanding of Jewish knowledge along the way. \nClick here to register.
URL:https://www.nvhcreston.org/calendars/introduction-to-reform-responsa/2025-05-15/
CATEGORIES:Lifelong Learning
END:VEVENT
BEGIN:VEVENT
DTSTART;TZID=America/New_York:20250516T180000
DTEND;TZID=America/New_York:20250516T180000
DTSTAMP:20260420T112457
CREATED:20250502T145035Z
LAST-MODIFIED:20250516T133435Z
UID:668793-1747418400-1747418400@www.nvhcreston.org
SUMMARY:Erev Shabbat Service Celebrating Lag B'Omer at 6:00PM at NVHC
DESCRIPTION:Due to the unpredictable weather\, the Lag B’Omer service tonight will be held at NVHC and will start at 6:00pm (please note the start time of 6:00pm tonight versus our typical Erev Shabbat service that starts at 7:00pm). \nSERVICE AT 6:00PM\nWe will mark the holiday of Lag B’Omer tonight by celebrating Shabbat together\, followed by a Brotherhood cookout! (Kaddish will be read at the service.) \nWe will do our best to bring the spirit of the outdoor holiday indoors so please bring your own camp chair! \nThere is no cost\, but you must register. \nClick here to register.
URL:https://www.nvhcreston.org/calendars/erev-shabbat-service-celebrating-lag-bomer/
CATEGORIES:Shabbat
END:VEVENT
BEGIN:VEVENT
DTSTART;TZID=Africa/Abidjan:20250517T090000
DTEND;TZID=Africa/Abidjan:20250517T101500
DTSTAMP:20260420T112457
CREATED:20210326T044538Z
LAST-MODIFIED:20250905T163710Z
UID:668018-1747472400-1747476900@www.nvhcreston.org
SUMMARY:Shabbat Sustenance: For the Body\, Soul\, and Mind
DESCRIPTION:Join us in person for a Shabbat morning full of soul-filled sustenance – bagels and coffee for the body\, Torah study for the soul\, and conversation for the mind!
URL:https://www.nvhcreston.org/calendars/shabbat-sustenance-for-the-body-soul-and-mind-2/2025-05-17/
CATEGORIES:Shabbat
END:VEVENT
BEGIN:VEVENT
DTSTART;TZID=America/New_York:20250517T103000
DTEND;TZID=America/New_York:20250517T120000
DTSTAMP:20260420T112457
CREATED:20230605T221900Z
LAST-MODIFIED:20240524T203350Z
UID:664571-1747477800-1747483200@www.nvhcreston.org
SUMMARY:Bat Mitzvah - Ella S
DESCRIPTION:
URL:https://www.nvhcreston.org/calendars/bat-mitzvah-ella-sheinerman/
CATEGORIES:Shabbat
END:VEVENT
BEGIN:VEVENT
DTSTART;TZID=America/New_York:20250518T091500
DTEND;TZID=America/New_York:20250518T103000
DTSTAMP:20260420T112457
CREATED:20240925T025530Z
LAST-MODIFIED:20241030T205723Z
UID:667096-1747559700-1747564200@www.nvhcreston.org
SUMMARY:Comparative Diaspora
DESCRIPTION:Taught by Andrew Stein\nSundays\, October 20\, 27; November 10\, 17; December 8\, 15; January 12\, 19\, 26; February 2\, 9\, 23; March 2\, 9\, 16\, 23; April 6\, 27; May 4\, 18\n9:15-10:30am\, in person and on Zoom \nSynopsis: Many American Jews\, though not all\, trace their roots to ancestors who came to the United\nStates of America before 1945\, with subsequent waves of Jews from the former Soviet Union and\nIslamic world\, Holocaust survivors\, Israelis and others. This course will take a new look at the experience\nand evolution of the Jews in America over time and topically with a different lens. We’ll compare and\ncontrast the American Jewish experience with that of other English-speaking Diaspora communities like\nthe UK\, Canada\, and Australia\, as well as France\, Argentina\, and Brazil. We will explore a series of\nthemes such as efforts to achieve civic equality and Jewish participation in each country’s politics and\nthe military\, the history of immigration and ghetto life from the 19th century up to the present\, Jewish\ndemography\, and the history of Judaism in its varieties. The course will also address the experiences in\ndiverse communities with Anti-Semitism and the Holocaust\, and different communities’ ties to Zionism\nand Israel. \nClick here to register!
URL:https://www.nvhcreston.org/calendars/comparative-diaspora/2025-05-18/
CATEGORIES:Lifelong Learning
END:VEVENT
BEGIN:VEVENT
DTSTART;TZID=America/New_York:20250518T091500
DTEND;TZID=America/New_York:20250518T120000
DTSTAMP:20260420T112457
CREATED:20250513T162847Z
LAST-MODIFIED:20250513T162847Z
UID:668833-1747559700-1747569600@www.nvhcreston.org
SUMMARY:Judaica Shop Open Today
DESCRIPTION:
URL:https://www.nvhcreston.org/calendars/judaica-shop-open-today-2/
CATEGORIES:Board and Committees,Kehilat Limmud,Women of NVHC
END:VEVENT
BEGIN:VEVENT
DTSTART;TZID=America/New_York:20250518T093000
DTEND;TZID=America/New_York:20250518T120000
DTSTAMP:20260420T112457
CREATED:20240610T205151Z
LAST-MODIFIED:20240610T210544Z
UID:666614-1747560600-1747569600@www.nvhcreston.org
SUMMARY:Kehillat Limmud (Religious School)
DESCRIPTION:Kehillat Limmud (Community of Learners) is our religious school program for children ages 0-7th grade. Click here to learn more!
URL:https://www.nvhcreston.org/calendars/kehillat-limmud-religious-school-5/2025-05-18/
CATEGORIES:Kehilat Limmud
END:VEVENT
BEGIN:VEVENT
DTSTART;TZID=America/New_York:20250518T101500
DTEND;TZID=America/New_York:20250518T110000
DTSTAMP:20260420T112457
CREATED:20250406T230237Z
LAST-MODIFIED:20250406T230237Z
UID:668673-1747563300-1747566000@www.nvhcreston.org
SUMMARY:BMitzvah Parent Class
DESCRIPTION:A class for parents of students becoming BMitzvah. Join Judy Naiman\, our 6th grade Hebrew teacher and long-time NVHC member\, for a four-part class diving into the customs and traditions around Shabbat and BMitzvah! These classes will be from 10:15-11:00am on the following Sundays. Please email Emily at ShowClick Here to View Contact Information to sign up! \n\nApril 6\nApril 27\nMay 4\nMay 18
URL:https://www.nvhcreston.org/calendars/bmitzvah-parent-class/2025-05-18/
CATEGORIES:Lifelong Learning
END:VEVENT
BEGIN:VEVENT
DTSTART;TZID=America/New_York:20250518T110000
DTEND;TZID=America/New_York:20250518T130000
DTSTAMP:20260420T112457
CREATED:20250403T173146Z
LAST-MODIFIED:20250403T173603Z
UID:668651-1747566000-1747573200@www.nvhcreston.org
SUMMARY:Comfort Care Packing
DESCRIPTION:
URL:https://www.nvhcreston.org/calendars/comfort-care-packing/
CATEGORIES:Social Action
END:VEVENT
BEGIN:VEVENT
DTSTART;TZID=America/New_York:20250518T120000
DTEND;TZID=America/New_York:20250518T133000
DTSTAMP:20260420T112457
CREATED:20240823T062909Z
LAST-MODIFIED:20240823T062909Z
UID:666898-1747569600-1747575000@www.nvhcreston.org
SUMMARY:Tamid (Sundays)
DESCRIPTION:
URL:https://www.nvhcreston.org/calendars/tamid-sundays/2025-05-18/
CATEGORIES:Tamid
END:VEVENT
BEGIN:VEVENT
DTSTART;TZID=America/New_York:20250518T120000
DTEND;TZID=America/New_York:20250518T133000
DTSTAMP:20260420T112457
CREATED:20240823T063341Z
LAST-MODIFIED:20240823T063341Z
UID:666916-1747569600-1747575000@www.nvhcreston.org
SUMMARY:Confirmation Class
DESCRIPTION:
URL:https://www.nvhcreston.org/calendars/confirmation-class-3/2025-05-18/
CATEGORIES:Tamid
END:VEVENT
BEGIN:VEVENT
DTSTART;TZID=America/New_York:20250518T190000
DTEND;TZID=America/New_York:20250518T210000
DTSTAMP:20260420T112457
CREATED:20250122T230702Z
LAST-MODIFIED:20250122T230702Z
UID:667894-1747594800-1747602000@www.nvhcreston.org
SUMMARY:Kol Shirah (Adult Choir) Rehearsal
DESCRIPTION:Kol Shirah is our adult choir. They help lead services during High Holy Days\, Shabbat\, and at other congregational events! Click here to learn more.
URL:https://www.nvhcreston.org/calendars/kol-shirah-adult-choir-rehearsal-2/2025-05-18/
CATEGORIES:Kol Shirah
END:VEVENT
BEGIN:VEVENT
DTSTART;TZID=America/New_York:20250520T174500
DTEND;TZID=America/New_York:20250520T200000
DTSTAMP:20260420T112457
CREATED:20240610T211057Z
LAST-MODIFIED:20241217T180718Z
UID:666648-1747763100-1747771200@www.nvhcreston.org
SUMMARY:Tamid (8th-12th Grade)
DESCRIPTION:Tamid is our religious school/youth group program for students in 8th-12th grade. Click here to learn more!
URL:https://www.nvhcreston.org/calendars/tamid-8th-12th-grade/2025-05-20/
CATEGORIES:Tamid
END:VEVENT
BEGIN:VEVENT
DTSTART;TZID=America/New_York:20250521T180000
DTEND;TZID=America/New_York:20250521T200000
DTSTAMP:20260420T112457
CREATED:20250227T150318Z
LAST-MODIFIED:20260416T135154Z
UID:668410-1747850400-1747857600@www.nvhcreston.org
SUMMARY:Adult B'nai Mitzvah Hebrew Class
DESCRIPTION:We are excited for a new Adult B’nai Mitzvah class! This is an opportunity for adult members of our congregation\, with a group of peers\, to engage with our millennia-old tradition and community ritual of affirming one’s place in the Jewish community. \nThere will be a Hebrew learning component as well as a content study with Cantor Caro\, Rabbi Holzman\, and Rabbi Barrett. The culmination of this journey is set for Shabbat morning\, May 23\, 2026. \nThe Adult B’nai Mitzvah Hebrew class will be divided into two sections from April through August\, to address varying levels of Hebrew. Starting in September\, we will all come together into one Hebrew class. The calendar includes the dates and times for both sections of the Adult B’nai Mitzvah Hebrew classes. \nAll classes will be in person.
URL:https://www.nvhcreston.org/calendars/adult-bnai-mitzvah-hebrew-class-2/2025-05-21/
CATEGORIES:Lifelong Learning
END:VEVENT
BEGIN:VEVENT
DTSTART;TZID=America/New_York:20250521T190000
DTEND;TZID=America/New_York:20250521T201500
DTSTAMP:20260420T112457
CREATED:20240925T015040Z
LAST-MODIFIED:20250429T162326Z
UID:667067-1747854000-1747858500@www.nvhcreston.org
SUMMARY:Dirshuni: Contemporary Midrashim
DESCRIPTION:Taught by Rabbi Barrett\nWednesdays\, May 7\, May 21\, and one additional date TBD – Please note the April 30 class has been combined with our Yom HaZikaron Observance/Yom HaAtzmaut Celebration\n7:00-8:15pm\, in person and on Zoom \nIn recent years\, there has been a burgeoning interest in contemporary midrashim authored by Israeli women and focused on female figures in scripture. These Midrashim have been collected into a volume called Dirshuni meaning seek for me.  Midrash is an ancient rabbinic form of exegesis\, often seen as “stories” that fill the narrative gaps in biblical texts. Join us for this engaging study\, where we will explore a different midrash in each session. Throughout the course\, we will enhance our textual skills while also opening our hearts and minds to our foremothers’ poignant and emotional stories\, viewing them through a fresh lens\, and dive into this beautiful new collection. \nClick here to register.
URL:https://www.nvhcreston.org/calendars/dirshuni-contemporary-midrashim/2025-05-21/
CATEGORIES:Lifelong Learning
END:VEVENT
BEGIN:VEVENT
DTSTART;TZID=America/New_York:20250523T190000
DTEND;TZID=America/New_York:20250523T201500
DTSTAMP:20260420T112457
CREATED:20230616T214453Z
LAST-MODIFIED:20260408T201011Z
UID:667302-1748026800-1748031300@www.nvhcreston.org
SUMMARY:Erev Shabbat Service
DESCRIPTION:Join us every Friday at 7:00pm to welcome Shabbat! Our Shabbat services are joyous\, musical\, spiritual\, and welcoming. And make sure you stick around afterwards for oneg Shabbat. \nAll services are in person and streamed on YouTube.
URL:https://www.nvhcreston.org/calendars/erev-shabbat-service-2/2025-05-23/
CATEGORIES:Shabbat
END:VEVENT
BEGIN:VEVENT
DTSTART;TZID=America/New_York:20250523T203000
DTEND;TZID=America/New_York:20250523T230000
DTSTAMP:20260420T112457
CREATED:20250102T213121Z
LAST-MODIFIED:20260107T144211Z
UID:668214-1748032200-1748041200@www.nvhcreston.org
SUMMARY:Game Night
DESCRIPTION:Join us for Erev Shabbat services followed by Game night! Game night is open to everyone\, whether you’re a casual board gamer\, serious hobbyist\, or just want to hang out with your NVHC friends. We’ll have plenty of games and snacks\, but please feel free to bring your own!
URL:https://www.nvhcreston.org/calendars/game-night-9/2025-05-23/
CATEGORIES:Social
END:VEVENT
BEGIN:VEVENT
DTSTART;TZID=Africa/Abidjan:20250524T090000
DTEND;TZID=Africa/Abidjan:20250524T101500
DTSTAMP:20260420T112457
CREATED:20210326T044538Z
LAST-MODIFIED:20250905T163711Z
UID:668019-1748077200-1748081700@www.nvhcreston.org
SUMMARY:Shabbat Sustenance: For the Body\, Soul\, and Mind
DESCRIPTION:Join us in person for a Shabbat morning full of soul-filled sustenance – bagels and coffee for the body\, Torah study for the soul\, and conversation for the mind!
URL:https://www.nvhcreston.org/calendars/shabbat-sustenance-for-the-body-soul-and-mind-2/2025-05-24/
CATEGORIES:Shabbat
END:VEVENT
BEGIN:VEVENT
DTSTART;TZID=America/New_York:20250526T190000
DTEND;TZID=America/New_York:20250526T200000
DTSTAMP:20260420T112457
CREATED:20250129T194955Z
LAST-MODIFIED:20250129T194955Z
UID:670313-1748286000-1748289600@www.nvhcreston.org
SUMMARY:NVHC Invisible Illness and Disability Support Group
DESCRIPTION:Meets on the 4th Monday of the month. \n7:00-8:00pm\, on Zoom only. \nClick here to register. \n \n 
URL:https://www.nvhcreston.org/calendars/nvhc-invisible-illness-and-disability-support-group-2025-03-24/2025-05-26/
CATEGORIES:Social
END:VEVENT
BEGIN:VEVENT
DTSTART;TZID=America/New_York:20250526T190000
DTEND;TZID=America/New_York:20250526T210000
DTSTAMP:20260420T112457
CREATED:20250122T230702Z
LAST-MODIFIED:20250122T230702Z
UID:667895-1748286000-1748293200@www.nvhcreston.org
SUMMARY:Kol Shirah (Adult Choir) Rehearsal
DESCRIPTION:Kol Shirah is our adult choir. They help lead services during High Holy Days\, Shabbat\, and at other congregational events! Click here to learn more.
URL:https://www.nvhcreston.org/calendars/kol-shirah-adult-choir-rehearsal-2/2025-05-26/
CATEGORIES:Kol Shirah
END:VEVENT
BEGIN:VEVENT
DTSTART;TZID=America/New_York:20250527T193000
DTEND;TZID=America/New_York:20250527T193000
DTSTAMP:20260420T112457
CREATED:20250507T171018Z
LAST-MODIFIED:20250507T171138Z
UID:668812-1748374200-1748374200@www.nvhcreston.org
SUMMARY:Speaker Series - Judi Garrett
DESCRIPTION:Click here to register.\n \n  \n  \n 
URL:https://www.nvhcreston.org/calendars/speaker-series-judi-garrett/
CATEGORIES:Speaker Series
END:VEVENT
END:VCALENDAR