BEGIN:VCALENDAR
VERSION:2.0
PRODID:-//NVHC - ECPv6.8.1//NONSGML v1.0//EN
CALSCALE:GREGORIAN
METHOD:PUBLISH
X-WR-CALNAME:NVHC
X-ORIGINAL-URL:https://www.nvhcreston.org
X-WR-CALDESC:Events for NVHC
REFRESH-INTERVAL;VALUE=DURATION:PT1H
X-Robots-Tag:noindex
X-PUBLISHED-TTL:PT1H
BEGIN:VTIMEZONE
TZID:America/New_York
BEGIN:DAYLIGHT
TZOFFSETFROM:-0500
TZOFFSETTO:-0400
TZNAME:EDT
DTSTART:20260308T070000
END:DAYLIGHT
BEGIN:STANDARD
TZOFFSETFROM:-0400
TZOFFSETTO:-0500
TZNAME:EST
DTSTART:20261101T060000
END:STANDARD
END:VTIMEZONE
BEGIN:VEVENT
DTSTART;TZID=America/New_York:20260422T190000
DTEND;TZID=America/New_York:20260422T200000
DTSTAMP:20260422T045656
CREATED:20260122T204306Z
LAST-MODIFIED:20260122T204306Z
UID:670420-1776884400-1776888000@www.nvhcreston.org
SUMMARY:Advanced Beginner Modern Hebrew
DESCRIPTION:Advanced Beginner Modern Hebrew \nTextbook: Hebrew – A Language Course\, Level 1 – https://store.behrmanhouse.com/index.php/hebrew-a-language-course-level-1-shlav-aleph.html\nBeginning on Wednesday February 4th @ 7-8pm \nOnline only \nTaught by Neta Litvin \nThis course is designed for adult learners who already have some experience with Hebrew and are ready to take the next step. Building on your knowledge of the Hebrew alphabet and vowels\, we will work toward greater reading fluency while expanding your ability to understand\, speak\, and write Hebrew with growing confidence. \nLessons focus on practical vocabulary\, everyday sentence patterns\, and commonly used verbs\, with plenty of opportunities to practice spoken Hebrew from the very beginning. Hebrew is taught with a modern Israeli flavor\, emphasizing real-life language and meaningful communication.  To support your learning\, the course includes fun interactive games\, along with custom-made materials created specifically for our students. These tools reinforce class content\, encourage practice between sessions\, and help make learning Hebrew both effective and enjoyable. \nThis course is ideal for learners who are past the absolute beginner stage and are ready to deepen their skills while enjoying the process.
URL:https://www.nvhcreston.org/calendars/advanced-beginner-modern-hebrew/2026-04-22/
CATEGORIES:Lifelong Learning
END:VEVENT
END:VCALENDAR