BEGIN:VCALENDAR
VERSION:2.0
PRODID:-//NVHC - ECPv6.8.1//NONSGML v1.0//EN
CALSCALE:GREGORIAN
METHOD:PUBLISH
X-WR-CALNAME:NVHC
X-ORIGINAL-URL:https://www.nvhcreston.org
X-WR-CALDESC:Events for NVHC
REFRESH-INTERVAL;VALUE=DURATION:PT1H
X-Robots-Tag:noindex
X-PUBLISHED-TTL:PT1H
BEGIN:VTIMEZONE
TZID:America/New_York
BEGIN:DAYLIGHT
TZOFFSETFROM:-0500
TZOFFSETTO:-0400
TZNAME:EDT
DTSTART:20260308T070000
END:DAYLIGHT
BEGIN:STANDARD
TZOFFSETFROM:-0400
TZOFFSETTO:-0500
TZNAME:EST
DTSTART:20261101T060000
END:STANDARD
END:VTIMEZONE
BEGIN:VEVENT
DTSTART;TZID=America/New_York:20260306T190000
DTEND;TZID=America/New_York:20260306T201500
DTSTAMP:20260423T145909
CREATED:20230616T214453Z
LAST-MODIFIED:20260408T200801Z
UID:667343-1772823600-1772828100@www.nvhcreston.org
SUMMARY:Erev Shabbat Service
DESCRIPTION:Join us every Friday at 7:00pm to welcome Shabbat! Our Shabbat services are joyous\, musical\, spiritual\, and welcoming. And make sure you stick around afterwards for oneg Shabbat. \nAll services are in person and streamed on YouTube.
URL:https://www.nvhcreston.org/calendars/erev-shabbat-service-2/2026-03-06/
CATEGORIES:Shabbat
END:VEVENT
BEGIN:VEVENT
DTSTART;TZID=America/New_York:20260313T190000
DTEND;TZID=America/New_York:20260313T201500
DTSTAMP:20260423T145909
CREATED:20230616T214453Z
LAST-MODIFIED:20260408T200801Z
UID:667344-1773428400-1773432900@www.nvhcreston.org
SUMMARY:Erev Shabbat Service
DESCRIPTION:Join us every Friday at 7:00pm to welcome Shabbat! Our Shabbat services are joyous\, musical\, spiritual\, and welcoming. And make sure you stick around afterwards for oneg Shabbat. \nAll services are in person and streamed on YouTube.
URL:https://www.nvhcreston.org/calendars/erev-shabbat-service-2/2026-03-13/
CATEGORIES:Shabbat
END:VEVENT
BEGIN:VEVENT
DTSTART;TZID=America/New_York:20260320T190000
DTEND;TZID=America/New_York:20260320T201500
DTSTAMP:20260423T145909
CREATED:20230616T214453Z
LAST-MODIFIED:20260408T200802Z
UID:667345-1774033200-1774037700@www.nvhcreston.org
SUMMARY:Erev Shabbat Service
DESCRIPTION:Join us every Friday at 7:00pm to welcome Shabbat! Our Shabbat services are joyous\, musical\, spiritual\, and welcoming. And make sure you stick around afterwards for oneg Shabbat. \nAll services are in person and streamed on YouTube.
URL:https://www.nvhcreston.org/calendars/erev-shabbat-service-2/2026-03-20/
CATEGORIES:Shabbat
END:VEVENT
BEGIN:VEVENT
DTSTART;TZID=America/New_York:20260327T190000
DTEND;TZID=America/New_York:20260327T201500
DTSTAMP:20260423T145909
CREATED:20230616T214453Z
LAST-MODIFIED:20260408T200802Z
UID:667346-1774638000-1774642500@www.nvhcreston.org
SUMMARY:Erev Shabbat Service
DESCRIPTION:Join us every Friday at 7:00pm to welcome Shabbat! Our Shabbat services are joyous\, musical\, spiritual\, and welcoming. And make sure you stick around afterwards for oneg Shabbat. \nAll services are in person and streamed on YouTube.
URL:https://www.nvhcreston.org/calendars/erev-shabbat-service-2/2026-03-27/
CATEGORIES:Shabbat
END:VEVENT
END:VCALENDAR