BEGIN:VCALENDAR
VERSION:2.0
PRODID:-//NVHC - ECPv6.8.1//NONSGML v1.0//EN
CALSCALE:GREGORIAN
METHOD:PUBLISH
X-WR-CALNAME:NVHC
X-ORIGINAL-URL:https://www.nvhcreston.org
X-WR-CALDESC:Events for NVHC
REFRESH-INTERVAL;VALUE=DURATION:PT1H
X-Robots-Tag:noindex
X-PUBLISHED-TTL:PT1H
BEGIN:VTIMEZONE
TZID:America/New_York
BEGIN:DAYLIGHT
TZOFFSETFROM:-0500
TZOFFSETTO:-0400
TZNAME:EDT
DTSTART:20250309T070000
END:DAYLIGHT
BEGIN:STANDARD
TZOFFSETFROM:-0400
TZOFFSETTO:-0500
TZNAME:EST
DTSTART:20251102T060000
END:STANDARD
END:VTIMEZONE
BEGIN:VEVENT
DTSTART;TZID=America/New_York:20251207T104500
DTEND;TZID=America/New_York:20251207T120000
DTSTAMP:20260423T105852
CREATED:20250917T041225Z
LAST-MODIFIED:20250917T041225Z
UID:669858-1765104300-1765108800@www.nvhcreston.org
SUMMARY:The Legacy of Holocaust Refugees\, Displaced Persons\, and Survivors Post-1945 in the Jewish World
DESCRIPTION:Taught by: Andrew Stein\nSundays\, September 14; October 12\, 19\, 26; November 9\, 16; December 7\, 14; January 11\, 18\, 25; February 1\, 8\, 22; March 1\, 8\, 15\, 22; April 12\, 19\, 26; May 3\nIn Person & Online\n10:45am-12:00pm \nWith the end of World War II in Europe in May 1945\, civilians and former combatants in formerly Nazi-occupied countries in Western\, Central\, and Eastern Europe began a long process of taking stock and rebuilding in the wake of what had been the most destructive war in human history. In the Jewish world\, over two-thirds of prewar European Jewish communities had been wiped out\, and in many instances there was no home or surviving family to return to\, or with the division between Soviet-dominated communist rule and the West\, survivors had no interest in living under Stalinism and in the bloodlands that had claimed their families and communities. This course will not focus on the Holocaust per se\, but rather its aftermath\, as the surviving remnant\, scattered all over the Middle East\, Asia (Shanghai\, specially)\, Europe\, and North and South America began to rebuild\, and the legacy that this generation bequeathed to the Jewish community over the last 80 years. This includes in the USA\, Canada\, UK\, and Western Europe\, and also Poland\, Argentina\, Australia\, and Israel.
URL:https://www.nvhcreston.org/calendars/the-legacy-of-holocaust-refugees-displaced-persons-and-survivors-post-1945-in-the-jewish-world/2025-12-07/
CATEGORIES:Lifelong Learning
END:VEVENT
BEGIN:VEVENT
DTSTART;TZID=America/New_York:20251214T104500
DTEND;TZID=America/New_York:20251214T120000
DTSTAMP:20260423T105852
CREATED:20250917T041225Z
LAST-MODIFIED:20250918T212440Z
UID:669803-1765709100-1765713600@www.nvhcreston.org
SUMMARY:The Legacy of Holocaust Refugees\, Displaced Persons\, and Survivors Post-1945 in the Jewish World
DESCRIPTION:Taught by: Andrew Stein\nSundays\, September 14; October 12\, 19\, 26; November 9\, 16; December 7\, 14; January 11\, 18\, 25; February 1\, 8\, 22; March 1\, 8\, 15\, 22; April 12\, 19\, 26; May 3\nIn Person & Online\n10:45am-12:00pm \nWith the end of World War II in Europe in May 1945\, civilians and former combatants in formerly Nazi-occupied countries in Western\, Central\, and Eastern Europe began a long process of taking stock and rebuilding in the wake of what had been the most destructive war in human history. In the Jewish world\, over two-thirds of prewar European Jewish communities had been wiped out\, and in many instances there was no home or surviving family to return to\, or with the division between Soviet-dominated communist rule and the West\, survivors had no interest in living under Stalinism and in the bloodlands that had claimed their families and communities. This course will not focus on the Holocaust per se\, but rather its aftermath\, as the surviving remnant\, scattered all over the Middle East\, Asia (Shanghai\, specially)\, Europe\, and North and South America began to rebuild\, and the legacy that this generation bequeathed to the Jewish community over the last 80 years. This includes in the USA\, Canada\, UK\, and Western Europe\, and also Poland\, Argentina\, Australia\, and Israel.
URL:https://www.nvhcreston.org/calendars/the-legacy-of-holocaust-refugees-displaced-persons-and-survivors-post-1945-in-the-jewish-world/2025-12-14/
CATEGORIES:Lifelong Learning
END:VEVENT
END:VCALENDAR